BEGIN:VCALENDAR
VERSION:2.0
PRODID:-//ACEC-NH - ECPv6.15.20//NONSGML v1.0//EN
CALSCALE:GREGORIAN
METHOD:PUBLISH
X-ORIGINAL-URL:https://acec-nh.org
X-WR-CALDESC:Events for ACEC-NH
REFRESH-INTERVAL;VALUE=DURATION:PT1H
X-Robots-Tag:noindex
X-PUBLISHED-TTL:PT1H
BEGIN:VTIMEZONE
TZID:UTC
BEGIN:STANDARD
TZOFFSETFROM:+0000
TZOFFSETTO:+0000
TZNAME:UTC
DTSTART:20210101T000000
END:STANDARD
END:VTIMEZONE
BEGIN:VEVENT
DTSTART;TZID=UTC:20240626T081500
DTEND;TZID=UTC:20240626T103000
DTSTAMP:20260422T142213
CREATED:20230906T142758Z
LAST-MODIFIED:20230906T142758Z
UID:3216-1719389700-1719397800@acec-nh.org
SUMMARY:Board of Directors Meeting
DESCRIPTION:This is a closed monthly meeting for ACEC-NH’s Board of Directors. If you would like more information please email info@acec-nh.org.
URL:https://acec-nh.org/event/board-of-directors-meeting-jun-24/
LOCATION:NH
CATEGORIES:Committee Meeting
ORGANIZER;CN="Alex Koutroubas":MAILTO:info@acec-nh.org
END:VEVENT
BEGIN:VEVENT
DTSTART;TZID=UTC:20240619T133000
DTEND;TZID=UTC:20240619T150000
DTSTAMP:20260422T142213
CREATED:20230906T143641Z
LAST-MODIFIED:20230906T143641Z
UID:3226-1718803800-1718809200@acec-nh.org
SUMMARY:NHDOT CQI Committee Meeting
DESCRIPTION:If you would like more information on how to get involved with this committee please email info@acec-nh.org.
URL:https://acec-nh.org/event/nhdot-cqi-committee-meeting-jun-24/
LOCATION:NH
CATEGORIES:Committee Meeting
ORGANIZER;CN="Alex Koutroubas":MAILTO:info@acec-nh.org
END:VEVENT
BEGIN:VEVENT
DTSTART;TZID=UTC:20240604T153000
DTEND;TZID=UTC:20240604T163000
DTSTAMP:20260422T142213
CREATED:20230906T141923Z
LAST-MODIFIED:20230906T141923Z
UID:3206-1717515000-1717518600@acec-nh.org
SUMMARY:Public Relations (PR) Committee Meeting
DESCRIPTION:This is an online (closed) meeting with members of ACEC-NH’s PR Committee. If you would like more information about this committee please email info@acec-nh.org.
URL:https://acec-nh.org/event/public-relations-pr-committee-meeting-june-2024/
LOCATION:Online Event
CATEGORIES:Committee Meeting
ORGANIZER;CN="Alex Koutroubas":MAILTO:info@acec-nh.org
END:VEVENT
BEGIN:VEVENT
DTSTART;TZID=UTC:20240522T081500
DTEND;TZID=UTC:20240522T103000
DTSTAMP:20260422T142213
CREATED:20230906T142719Z
LAST-MODIFIED:20230906T142719Z
UID:3215-1716365700-1716373800@acec-nh.org
SUMMARY:Board of Directors Meeting
DESCRIPTION:This is a closed monthly meeting for ACEC-NH’s Board of Directors. If you would like more information please email info@acec-nh.org.
URL:https://acec-nh.org/event/board-of-directors-meeting-may-24/
LOCATION:NH
CATEGORIES:Committee Meeting
ORGANIZER;CN="Alex Koutroubas":MAILTO:info@acec-nh.org
END:VEVENT
BEGIN:VEVENT
DTSTART;TZID=UTC:20240515T133000
DTEND;TZID=UTC:20240515T150000
DTSTAMP:20260422T142213
CREATED:20230906T143604Z
LAST-MODIFIED:20230906T143604Z
UID:3225-1715779800-1715785200@acec-nh.org
SUMMARY:NHDOT CQI Committee Meeting
DESCRIPTION:If you would like more information on how to get involved with this committee please email info@acec-nh.org.
URL:https://acec-nh.org/event/nhdot-cqi-committee-meeting-may-24/
LOCATION:NH
CATEGORIES:Committee Meeting
ORGANIZER;CN="Alex Koutroubas":MAILTO:info@acec-nh.org
END:VEVENT
BEGIN:VEVENT
DTSTART;TZID=UTC:20240424T081500
DTEND;TZID=UTC:20240424T103000
DTSTAMP:20260422T142213
CREATED:20230906T142634Z
LAST-MODIFIED:20230906T142634Z
UID:3214-1713946500-1713954600@acec-nh.org
SUMMARY:Board of Directors Meeting
DESCRIPTION:This is a closed monthly meeting for ACEC-NH’s Board of Directors. If you would like more information please email info@acec-nh.org.
URL:https://acec-nh.org/event/board-of-directors-meeting-apr-24/
LOCATION:NH
CATEGORIES:Committee Meeting
ORGANIZER;CN="Alex Koutroubas":MAILTO:info@acec-nh.org
END:VEVENT
BEGIN:VEVENT
DTSTART;TZID=UTC:20240417T133000
DTEND;TZID=UTC:20240417T150000
DTSTAMP:20260422T142213
CREATED:20230906T143743Z
LAST-MODIFIED:20230906T143743Z
UID:3227-1713360600-1713366000@acec-nh.org
SUMMARY:NHDOT CQI Committee Meeting
DESCRIPTION:If you would like more information on how to get involved with this committee please email info@acec-nh.org.
URL:https://acec-nh.org/event/nhdot-cqi-committee-meeting-apr-24/
LOCATION:NH
CATEGORIES:Committee Meeting
ORGANIZER;CN="Alex Koutroubas":MAILTO:info@acec-nh.org
END:VEVENT
BEGIN:VEVENT
DTSTART;TZID=UTC:20240327T081500
DTEND;TZID=UTC:20240327T103000
DTSTAMP:20260422T142213
CREATED:20230906T142548Z
LAST-MODIFIED:20230906T142548Z
UID:3213-1711527300-1711535400@acec-nh.org
SUMMARY:Board of Directors Meeting
DESCRIPTION:This is a closed monthly meeting for ACEC-NH’s Board of Directors. If you would like more information please email info@acec-nh.org.
URL:https://acec-nh.org/event/board-of-directors-meeting-mar-24/
LOCATION:NH
CATEGORIES:Committee Meeting
ORGANIZER;CN="Alex Koutroubas":MAILTO:info@acec-nh.org
END:VEVENT
BEGIN:VEVENT
DTSTART;TZID=UTC:20240320T133000
DTEND;TZID=UTC:20240320T150000
DTSTAMP:20260422T142213
CREATED:20230906T143436Z
LAST-MODIFIED:20230906T143436Z
UID:3224-1710941400-1710946800@acec-nh.org
SUMMARY:NHDOT CQI Committee Meeting
DESCRIPTION:If you would like more information on how to get involved with this committee please email info@acec-nh.org.
URL:https://acec-nh.org/event/nhdot-cqi-committee-meeting-mar-24/
LOCATION:NH
CATEGORIES:Committee Meeting
ORGANIZER;CN="Alex Koutroubas":MAILTO:info@acec-nh.org
END:VEVENT
BEGIN:VEVENT
DTSTART;TZID=UTC:20240305T153000
DTEND;TZID=UTC:20240305T163000
DTSTAMP:20260422T142213
CREATED:20230906T141828Z
LAST-MODIFIED:20230906T141828Z
UID:3205-1709652600-1709656200@acec-nh.org
SUMMARY:Public Relations (PR) Committee Meeting
DESCRIPTION:This is an online (closed) meeting with members of ACEC-NH’s PR Committee. If you would like more information about this committee please email info@acec-nh.org.
URL:https://acec-nh.org/event/public-relations-pr-committee-meeting-march-2024/
LOCATION:Online Event
CATEGORIES:Committee Meeting
ORGANIZER;CN="Alex Koutroubas":MAILTO:info@acec-nh.org
END:VEVENT
BEGIN:VEVENT
DTSTART;TZID=UTC:20240228T081500
DTEND;TZID=UTC:20240228T103000
DTSTAMP:20260422T142213
CREATED:20230906T142501Z
LAST-MODIFIED:20230906T142512Z
UID:3212-1709108100-1709116200@acec-nh.org
SUMMARY:Board of Directors Meeting
DESCRIPTION:This is a closed monthly meeting for ACEC-NH’s Board of Directors. If you would like more information please email info@acec-nh.org.
URL:https://acec-nh.org/event/board-of-directors-meeting-feb-24/
LOCATION:NH
CATEGORIES:Committee Meeting
ORGANIZER;CN="Alex Koutroubas":MAILTO:info@acec-nh.org
END:VEVENT
BEGIN:VEVENT
DTSTART;TZID=UTC:20240221T133000
DTEND;TZID=UTC:20240221T150000
DTSTAMP:20260422T142213
CREATED:20230906T143401Z
LAST-MODIFIED:20230906T143401Z
UID:3223-1708522200-1708527600@acec-nh.org
SUMMARY:NHDOT CQI Committee Meeting
DESCRIPTION:If you would like more information on how to get involved with this committee please email info@acec-nh.org.
URL:https://acec-nh.org/event/nhdot-cqi-committee-meeting-feb-24/
LOCATION:NH
CATEGORIES:Committee Meeting
ORGANIZER;CN="Alex Koutroubas":MAILTO:info@acec-nh.org
END:VEVENT
BEGIN:VEVENT
DTSTART;TZID=UTC:20240124T081500
DTEND;TZID=UTC:20240124T103000
DTSTAMP:20260422T142213
CREATED:20230906T142424Z
LAST-MODIFIED:20230906T142424Z
UID:3211-1706084100-1706092200@acec-nh.org
SUMMARY:Board of Directors Meeting
DESCRIPTION:This is a closed monthly meeting for ACEC-NH’s Board of Directors. If you would like more information please email info@acec-nh.org.
URL:https://acec-nh.org/event/board-of-directors-meeting-jan-24/
LOCATION:NH
CATEGORIES:Committee Meeting
ORGANIZER;CN="Alex Koutroubas":MAILTO:info@acec-nh.org
END:VEVENT
BEGIN:VEVENT
DTSTART;TZID=UTC:20240123T083000
DTEND;TZID=UTC:20240123T100000
DTSTAMP:20260422T142213
CREATED:20231221T173625Z
LAST-MODIFIED:20231221T173625Z
UID:3283-1705998600-1706004000@acec-nh.org
SUMMARY:NHDES CQI Committee Meeting
DESCRIPTION:This is a closed monthly meeting for ACEC-NH’s NHDES CQI Committee Meeting. If you would like more information please email info@acec-nh.org.
URL:https://acec-nh.org/event/nhdes-cqi-committee-meeting/
LOCATION:NH
CATEGORIES:Committee Meeting
ORGANIZER;CN="Alex Koutroubas":MAILTO:info@acec-nh.org
END:VEVENT
BEGIN:VEVENT
DTSTART;TZID=UTC:20240117T133000
DTEND;TZID=UTC:20240117T150000
DTSTAMP:20260422T142213
CREATED:20230906T143328Z
LAST-MODIFIED:20230906T143328Z
UID:3222-1705498200-1705503600@acec-nh.org
SUMMARY:NHDOT CQI Committee Meeting
DESCRIPTION:If you would like more information on how to get involved with this committee please email info@acec-nh.org.
URL:https://acec-nh.org/event/nhdot-cqi-committee-meeting-jan-24/
LOCATION:NH
CATEGORIES:Committee Meeting
ORGANIZER;CN="Alex Koutroubas":MAILTO:info@acec-nh.org
END:VEVENT
BEGIN:VEVENT
DTSTART;TZID=UTC:20240112T123000
DTEND;TZID=UTC:20240112T140000
DTSTAMP:20260422T142213
CREATED:20231221T173855Z
LAST-MODIFIED:20231221T175539Z
UID:3285-1705062600-1705068000@acec-nh.org
SUMMARY:Government Affairs Committee Meeting
DESCRIPTION:If you would like more information on how to get involved please email info@acec-nh.org.
URL:https://acec-nh.org/event/government-affairs-committee-meeting-jan-12/
LOCATION:Dennehy & Bouley\, 17 Depot Street\, Suite 3\, Concord\, NH\, 03301\, United States
CATEGORIES:Committee Meeting
ORGANIZER;CN="Alex Koutroubas":MAILTO:info@acec-nh.org
END:VEVENT
BEGIN:VEVENT
DTSTART;TZID=UTC:20231227T081500
DTEND;TZID=UTC:20231227T103000
DTSTAMP:20260422T142213
CREATED:20230906T142341Z
LAST-MODIFIED:20230906T142341Z
UID:3210-1703664900-1703673000@acec-nh.org
SUMMARY:Board of Directors Meeting
DESCRIPTION:This is a closed monthly meeting for ACEC-NH’s Board of Directors. If you would like more information please email info@acec-nh.org.
URL:https://acec-nh.org/event/board-of-directors-meeting-dec-23/
LOCATION:NH
CATEGORIES:Committee Meeting
ORGANIZER;CN="Alex Koutroubas":MAILTO:info@acec-nh.org
END:VEVENT
BEGIN:VEVENT
DTSTART;TZID=UTC:20231220T133000
DTEND;TZID=UTC:20231220T150000
DTSTAMP:20260422T142213
CREATED:20230906T143250Z
LAST-MODIFIED:20230906T143250Z
UID:3221-1703079000-1703084400@acec-nh.org
SUMMARY:NHDOT CQI Committee Meeting
DESCRIPTION:If you would like more information on how to get involved with this committee please email info@acec-nh.org.
URL:https://acec-nh.org/event/nhdot-cqi-committee-meeting-dec-23/
LOCATION:NH
CATEGORIES:Committee Meeting
ORGANIZER;CN="Alex Koutroubas":MAILTO:info@acec-nh.org
END:VEVENT
BEGIN:VEVENT
DTSTART;TZID=UTC:20231205T153000
DTEND;TZID=UTC:20231205T163000
DTSTAMP:20260422T142213
CREATED:20230906T141650Z
LAST-MODIFIED:20230906T141650Z
UID:3203-1701790200-1701793800@acec-nh.org
SUMMARY:Public Relations (PR) Committee Meeting
DESCRIPTION:This is an online (closed) meeting with members of ACEC-NH’s PR Committee. If you would like more information about this committee please email info@acec-nh.org.
URL:https://acec-nh.org/event/public-relations-pr-committee-meeting/
LOCATION:Online Event
CATEGORIES:Committee Meeting
ORGANIZER;CN="Alex Koutroubas":MAILTO:info@acec-nh.org
END:VEVENT
BEGIN:VEVENT
DTSTART;TZID=UTC:20231122T081500
DTEND;TZID=UTC:20231122T103000
DTSTAMP:20260422T142213
CREATED:20230906T142255Z
LAST-MODIFIED:20230906T142255Z
UID:3209-1700640900-1700649000@acec-nh.org
SUMMARY:Board of Directors Meeting
DESCRIPTION:This is a closed monthly meeting for ACEC-NH’s Board of Directors. If you would like more information please email info@acec-nh.org.
URL:https://acec-nh.org/event/board-of-directors-meeting-nov-2023/
LOCATION:NH
CATEGORIES:Committee Meeting
ORGANIZER;CN="Alex Koutroubas":MAILTO:info@acec-nh.org
END:VEVENT
BEGIN:VEVENT
DTSTART;TZID=UTC:20231115T133000
DTEND;TZID=UTC:20231115T150000
DTSTAMP:20260422T142213
CREATED:20230906T143211Z
LAST-MODIFIED:20230906T143211Z
UID:3220-1700055000-1700060400@acec-nh.org
SUMMARY:NHDOT CQI Committee Meeting
DESCRIPTION:If you would like more information on how to get involved with this committee please email info@acec-nh.org.
URL:https://acec-nh.org/event/nhdot-cqi-committee-meeting-nov-23/
LOCATION:NH
CATEGORIES:Committee Meeting
ORGANIZER;CN="Alex Koutroubas":MAILTO:info@acec-nh.org
END:VEVENT
BEGIN:VEVENT
DTSTART;TZID=UTC:20231025T081500
DTEND;TZID=UTC:20231025T103000
DTSTAMP:20260422T142213
CREATED:20230906T142208Z
LAST-MODIFIED:20230906T142213Z
UID:3208-1698221700-1698229800@acec-nh.org
SUMMARY:Board of Directors Meeting
DESCRIPTION:This is a closed monthly meeting for ACEC-NH’s Board of Directors. If you would like more information please email info@acec-nh.org.
URL:https://acec-nh.org/event/board-of-directors-meeting-oct-2023/
LOCATION:NH
CATEGORIES:Committee Meeting
ORGANIZER;CN="Alex Koutroubas":MAILTO:info@acec-nh.org
END:VEVENT
BEGIN:VEVENT
DTSTART;TZID=UTC:20231018T133000
DTEND;TZID=UTC:20231018T150000
DTSTAMP:20260422T142213
CREATED:20230906T143129Z
LAST-MODIFIED:20230906T143129Z
UID:3219-1697635800-1697641200@acec-nh.org
SUMMARY:NHDOT CQI Committee Meeting
DESCRIPTION:If you would like more information on how to get involved with this committee please email info@acec-nh.org.
URL:https://acec-nh.org/event/nhdot-cqi-committee-meeting-oct-23/
LOCATION:NH
CATEGORIES:Committee Meeting
ORGANIZER;CN="Alex Koutroubas":MAILTO:info@acec-nh.org
END:VEVENT
BEGIN:VEVENT
DTSTART;TZID=UTC:20230927T081500
DTEND;TZID=UTC:20230927T103000
DTSTAMP:20260422T142213
CREATED:20230906T142123Z
LAST-MODIFIED:20230906T142833Z
UID:3207-1695802500-1695810600@acec-nh.org
SUMMARY:Board of Directors Meeting
DESCRIPTION:This is a closed monthly meeting for ACEC-NH’s Board of Directors. If you would like more information please email info@acec-nh.org.
URL:https://acec-nh.org/event/board-of-directors-meeting-sep-23/
LOCATION:NH
CATEGORIES:Committee Meeting
ORGANIZER;CN="Alex Koutroubas":MAILTO:info@acec-nh.org
END:VEVENT
BEGIN:VEVENT
DTSTART;TZID=UTC:20230920T133000
DTEND;TZID=UTC:20230920T150000
DTSTAMP:20260422T142213
CREATED:20230906T143050Z
LAST-MODIFIED:20230906T143050Z
UID:3218-1695216600-1695222000@acec-nh.org
SUMMARY:NHDOT CQI Committee Meeting
DESCRIPTION:If you would like more information on how to get involved with this committee please email info@acec-nh.org.
URL:https://acec-nh.org/event/nhdot-cqi-committee-meeting-sep-23/
LOCATION:NH
CATEGORIES:Committee Meeting
ORGANIZER;CN="Alex Koutroubas":MAILTO:info@acec-nh.org
END:VEVENT
BEGIN:VEVENT
DTSTART;TZID=UTC:20230915T083000
DTEND;TZID=UTC:20230915T100000
DTSTAMP:20260422T142213
CREATED:20230906T142952Z
LAST-MODIFIED:20230906T142952Z
UID:3217-1694766600-1694772000@acec-nh.org
SUMMARY:NHDES CQI Committee Meeting
DESCRIPTION:If you would like more information on how to get involved with this committee please email info@acec-nh.org.
URL:https://acec-nh.org/event/nhdes-cqi-committee-meeting-sep-23/
LOCATION:NH
CATEGORIES:Committee Meeting
ORGANIZER;CN="Alex Koutroubas":MAILTO:info@acec-nh.org
END:VEVENT
BEGIN:VEVENT
DTSTART;TZID=UTC:20230905T153000
DTEND;TZID=UTC:20230905T163000
DTSTAMP:20260422T142213
CREATED:20230906T144033Z
LAST-MODIFIED:20230906T144033Z
UID:3228-1693927800-1693931400@acec-nh.org
SUMMARY:Public Relations (PR) Committee Meeting
DESCRIPTION:This is an online (closed) meeting with members of ACEC-NH’s PR Committee. If you would like more information about this committee please email info@acec-nh.org.
URL:https://acec-nh.org/event/public-relations-pr-committee-meeting-sep-23/
LOCATION:Online Event
CATEGORIES:Committee Meeting
ORGANIZER;CN="Alex Koutroubas":MAILTO:info@acec-nh.org
END:VEVENT
BEGIN:VEVENT
DTSTART;TZID=UTC:20221021T083000
DTEND;TZID=UTC:20221021T103000
DTSTAMP:20260422T142213
CREATED:20211012T194740Z
LAST-MODIFIED:20211012T194740Z
UID:2735-1666341000-1666348200@acec-nh.org
SUMMARY:NHDES CQI Meeting
DESCRIPTION:
URL:https://acec-nh.org/event/nhdes-cqi-meeting-16/
LOCATION:Online Event
CATEGORIES:Committee Meeting
ORGANIZER;CN="Alex Koutroubas":MAILTO:info@acec-nh.org
END:VEVENT
BEGIN:VEVENT
DTSTART;TZID=UTC:20220916T083000
DTEND;TZID=UTC:20220916T103000
DTSTAMP:20260422T142213
CREATED:20211012T194702Z
LAST-MODIFIED:20211012T194702Z
UID:2734-1663317000-1663324200@acec-nh.org
SUMMARY:NHDES CQI Meeting
DESCRIPTION:
URL:https://acec-nh.org/event/nhdes-cqi-meeting-15/
LOCATION:Online Event
CATEGORIES:Committee Meeting
ORGANIZER;CN="Alex Koutroubas":MAILTO:info@acec-nh.org
END:VEVENT
BEGIN:VEVENT
DTSTART;TZID=UTC:20220819T083000
DTEND;TZID=UTC:20220819T103000
DTSTAMP:20260422T142213
CREATED:20211012T194632Z
LAST-MODIFIED:20211012T194632Z
UID:2733-1660897800-1660905000@acec-nh.org
SUMMARY:NHDES CQI Meeting
DESCRIPTION:Topic: ACEC-NH Scoping/Planning Meeting
URL:https://acec-nh.org/event/nhdes-cqi-meeting-14/
LOCATION:Online Event
CATEGORIES:Committee Meeting
ORGANIZER;CN="Alex Koutroubas":MAILTO:info@acec-nh.org
END:VEVENT
END:VCALENDAR